BEGIN:VCALENDAR
VERSION:2.0
PRODID:-//eventon.com NONSGML v1.0//EN
CALSCALE:GREGORIAN
METHOD:PUBLISH
BEGIN:VEVENT
UID:69e751d0ab569
DTSTAMP:20260421T103040Z
DTSTART:20251115T140000Z
DTEND:20251115T160000Z
LOCATION:
SUMMARY:Intocht Sinterklaas
DESCRIPTION:Meer informatie volgt snel!\nhttps://grandcafe-desteupel.nl/eve
 nts/intocht-sinterklaas/
URL:https://grandcafe-desteupel.nl/events/intocht-sinterklaas/
END:VEVENT
END:VCALENDAR