BEGIN:VCALENDAR
VERSION:2.0
PRODID:-//eventon.com NONSGML v1.0//EN
CALSCALE:GREGORIAN
METHOD:PUBLISH
BEGIN:VEVENT
UID:69e914f2e729e
DTSTAMP:20260422T183530Z
DTSTART:20230426T183000Z
DTEND:20230427T003000Z
LOCATION:
SUMMARY:Piano & Pils
DESCRIPTION:Koningsnacht 26 april komen de mannen van Piano & pils de tent 
 weer op zijn kop zetten. Piano & Pils is een energiek en swingend meezingfe
 stijn voor jong en oud. De band bestaat uit twee vrienden die uit liefde vo
 or muziek\,  gezelligheid en een klein beetje pils bij elkaar zijn[..]\nhtt
 ps://grandcafe-desteupel.nl/events/piano-pils/
URL:https://grandcafe-desteupel.nl/events/piano-pils/
END:VEVENT
END:VCALENDAR